BEGIN:VCALENDAR
VERSION:2.0
PRODID:-//First Baptist Church of Ann Arbor - ECPv6.15.17.1//NONSGML v1.0//EN
CALSCALE:GREGORIAN
METHOD:PUBLISH
X-WR-CALNAME:First Baptist Church of Ann Arbor
X-ORIGINAL-URL:https://www.fbca2.org
X-WR-CALDESC:Events for First Baptist Church of Ann Arbor
REFRESH-INTERVAL;VALUE=DURATION:PT1H
X-Robots-Tag:noindex
X-PUBLISHED-TTL:PT1H
BEGIN:VTIMEZONE
TZID:America/New_York
BEGIN:DAYLIGHT
TZOFFSETFROM:-0500
TZOFFSETTO:-0400
TZNAME:EDT
DTSTART:20210314T070000
END:DAYLIGHT
BEGIN:STANDARD
TZOFFSETFROM:-0400
TZOFFSETTO:-0500
TZNAME:EST
DTSTART:20211107T060000
END:STANDARD
BEGIN:DAYLIGHT
TZOFFSETFROM:-0500
TZOFFSETTO:-0400
TZNAME:EDT
DTSTART:20220313T070000
END:DAYLIGHT
BEGIN:STANDARD
TZOFFSETFROM:-0400
TZOFFSETTO:-0500
TZNAME:EST
DTSTART:20221106T060000
END:STANDARD
BEGIN:DAYLIGHT
TZOFFSETFROM:-0500
TZOFFSETTO:-0400
TZNAME:EDT
DTSTART:20230312T070000
END:DAYLIGHT
BEGIN:STANDARD
TZOFFSETFROM:-0400
TZOFFSETTO:-0500
TZNAME:EST
DTSTART:20231105T060000
END:STANDARD
END:VTIMEZONE
BEGIN:VEVENT
DTSTART;TZID=America/New_York:20220911T120000
DTEND;TZID=America/New_York:20220911T170000
DTSTAMP:20260424T153637
CREATED:20220825T031306Z
LAST-MODIFIED:20220911T173355Z
UID:3931-1662897600-1662915600@www.fbca2.org
SUMMARY:Pride in the Park with FBCA2!
DESCRIPTION:Join First Baptist Church at Pride in the Park! As one of the sponsors of the event\, we invite you to stop by the FBCA2 tent. Come spin the Wheel of Swag to see what fun Pride gift you get to take home! \nSome of our church family will be walking to Pride in the Park together after Fellowship Time (around noon). Would you like a ride to Pride? Let us know and we’ll give you one! \nWant a Love Over Everything T-shirt? Click here!
URL:https://www.fbca2.org/event/pride/
LOCATION:Wheeler Park\, 200 Depot Street\, Ann Arbor
ATTACH;FMTTYPE=image/png:https://www.fbca2.org/wp-content/uploads/2022/08/coming-home-2.png
END:VEVENT
END:VCALENDAR