BEGIN:VCALENDAR
VERSION:2.0
PRODID:-//First Baptist Church of Ann Arbor - ECPv6.15.17.1//NONSGML v1.0//EN
CALSCALE:GREGORIAN
METHOD:PUBLISH
X-WR-CALNAME:First Baptist Church of Ann Arbor
X-ORIGINAL-URL:https://www.fbca2.org
X-WR-CALDESC:Events for First Baptist Church of Ann Arbor
REFRESH-INTERVAL;VALUE=DURATION:PT1H
X-Robots-Tag:noindex
X-PUBLISHED-TTL:PT1H
BEGIN:VTIMEZONE
TZID:America/New_York
BEGIN:DAYLIGHT
TZOFFSETFROM:-0500
TZOFFSETTO:-0400
TZNAME:EDT
DTSTART:20240310T070000
END:DAYLIGHT
BEGIN:STANDARD
TZOFFSETFROM:-0400
TZOFFSETTO:-0500
TZNAME:EST
DTSTART:20241103T060000
END:STANDARD
BEGIN:DAYLIGHT
TZOFFSETFROM:-0500
TZOFFSETTO:-0400
TZNAME:EDT
DTSTART:20250309T070000
END:DAYLIGHT
BEGIN:STANDARD
TZOFFSETFROM:-0400
TZOFFSETTO:-0500
TZNAME:EST
DTSTART:20251102T060000
END:STANDARD
BEGIN:DAYLIGHT
TZOFFSETFROM:-0500
TZOFFSETTO:-0400
TZNAME:EDT
DTSTART:20260308T070000
END:DAYLIGHT
BEGIN:STANDARD
TZOFFSETFROM:-0400
TZOFFSETTO:-0500
TZNAME:EST
DTSTART:20261101T060000
END:STANDARD
END:VTIMEZONE
BEGIN:VEVENT
DTSTART;TZID=America/New_York:20250304T190000
DTEND;TZID=America/New_York:20250304T203000
DTSTAMP:20260422T230649
CREATED:20250201T043557Z
LAST-MODIFIED:20250204T015757Z
UID:5684-1741114800-1741120200@www.fbca2.org
SUMMARY:Transformed Through Transition: Living Our Stories
DESCRIPTION:We invite you to join us as we continue to explore who we are and plan for the next phase of life for First Baptist Church\, Ann Arbor through our Living Our Stories gatherings! Sign up to participate in one of several small groups\, either Tuesday\, March 4 (7:00-8:30p) or Sunday\, April 6 (3:30-5:00p) to further examine the stories we tell here at First Baptist and what those stories say about us and our values. WE create the church we want to be! You can sign up online here\, or in person at the Ministry Station at church. Questions? Connect with Robbie Stapleton or Paula Burton.
URL:https://www.fbca2.org/event/livingourstories/
ATTACH;FMTTYPE=image/jpeg:https://www.fbca2.org/wp-content/uploads/2025/01/Transformed-by-Transition-images-3.jpg
END:VEVENT
END:VCALENDAR