BEGIN:VCALENDAR
VERSION:2.0
PRODID:-//First Baptist Church of Ann Arbor - ECPv6.15.17.1//NONSGML v1.0//EN
CALSCALE:GREGORIAN
METHOD:PUBLISH
X-WR-CALNAME:First Baptist Church of Ann Arbor
X-ORIGINAL-URL:https://www.fbca2.org
X-WR-CALDESC:Events for First Baptist Church of Ann Arbor
REFRESH-INTERVAL;VALUE=DURATION:PT1H
X-Robots-Tag:noindex
X-PUBLISHED-TTL:PT1H
BEGIN:VTIMEZONE
TZID:America/New_York
BEGIN:DAYLIGHT
TZOFFSETFROM:-0500
TZOFFSETTO:-0400
TZNAME:EDT
DTSTART:20210314T070000
END:DAYLIGHT
BEGIN:STANDARD
TZOFFSETFROM:-0400
TZOFFSETTO:-0500
TZNAME:EST
DTSTART:20211107T060000
END:STANDARD
BEGIN:DAYLIGHT
TZOFFSETFROM:-0500
TZOFFSETTO:-0400
TZNAME:EDT
DTSTART:20220313T070000
END:DAYLIGHT
BEGIN:STANDARD
TZOFFSETFROM:-0400
TZOFFSETTO:-0500
TZNAME:EST
DTSTART:20221106T060000
END:STANDARD
BEGIN:DAYLIGHT
TZOFFSETFROM:-0500
TZOFFSETTO:-0400
TZNAME:EDT
DTSTART:20230312T070000
END:DAYLIGHT
BEGIN:STANDARD
TZOFFSETFROM:-0400
TZOFFSETTO:-0500
TZNAME:EST
DTSTART:20231105T060000
END:STANDARD
END:VTIMEZONE
BEGIN:VEVENT
DTSTART;VALUE=DATE:20221218
DTEND;VALUE=DATE:20221219
DTSTAMP:20260423T181800
CREATED:20221213T042359Z
LAST-MODIFIED:20221213T042706Z
UID:4157-1671321600-1671407999@www.fbca2.org
SUMMARY:Hospitality Sunday
DESCRIPTION:As we approach Christmas\, we invite you to join us in offering hospitality to folks in our community who are experiencing homelessness. During the month of January\, we will be hosting the Daytime Warming Center at First Baptist Church. FBCA2 is known for its generous hospitality. Will you join us in offering a warm welcome to our guests? \nOur hope is that every household in our church family offers a gift of hospitality. There are many ways to give such a gift: \nYOU GAVE ME FOOD: \n\nYou can provide a portion of a lunchtime meal to be served on Monday. All offerings should be brought to church by the Sunday before the scheduled meal.\nYou can provide a lunchtime meal on Fridays.\nYou can provide snacks. You can bring snacks to church on Sundays or order online from this Amazon list to have snacks shipped to church.\n\nYOU GAVE ME CLOTHING: \n\nYou can provide underwear. You can bring items to church or order online from this Amazon list to have underwear shipped to church.\nYou can provide hats and gloves. You can bring items to church or order online from this Amazon list to have underwear shipped to church.
URL:https://www.fbca2.org/event/hospitality/
ATTACH;FMTTYPE=image/png:https://www.fbca2.org/wp-content/uploads/2022/12/the-Gift-of-hospitality.png
END:VEVENT
END:VCALENDAR