BEGIN:VCALENDAR
VERSION:2.0
PRODID:-//First Baptist Church of Ann Arbor - ECPv6.15.17.1//NONSGML v1.0//EN
CALSCALE:GREGORIAN
METHOD:PUBLISH
X-WR-CALNAME:First Baptist Church of Ann Arbor
X-ORIGINAL-URL:https://www.fbca2.org
X-WR-CALDESC:Events for First Baptist Church of Ann Arbor
REFRESH-INTERVAL;VALUE=DURATION:PT1H
X-Robots-Tag:noindex
X-PUBLISHED-TTL:PT1H
BEGIN:VTIMEZONE
TZID:America/New_York
BEGIN:DAYLIGHT
TZOFFSETFROM:-0500
TZOFFSETTO:-0400
TZNAME:EDT
DTSTART:20210314T070000
END:DAYLIGHT
BEGIN:STANDARD
TZOFFSETFROM:-0400
TZOFFSETTO:-0500
TZNAME:EST
DTSTART:20211107T060000
END:STANDARD
BEGIN:DAYLIGHT
TZOFFSETFROM:-0500
TZOFFSETTO:-0400
TZNAME:EDT
DTSTART:20220313T070000
END:DAYLIGHT
BEGIN:STANDARD
TZOFFSETFROM:-0400
TZOFFSETTO:-0500
TZNAME:EST
DTSTART:20221106T060000
END:STANDARD
BEGIN:DAYLIGHT
TZOFFSETFROM:-0500
TZOFFSETTO:-0400
TZNAME:EDT
DTSTART:20230312T070000
END:DAYLIGHT
BEGIN:STANDARD
TZOFFSETFROM:-0400
TZOFFSETTO:-0500
TZNAME:EST
DTSTART:20231105T060000
END:STANDARD
END:VTIMEZONE
BEGIN:VEVENT
DTSTART;TZID=America/New_York:20220928T173000
DTEND;TZID=America/New_York:20220928T190000
DTSTAMP:20260424T112217
CREATED:20220907T013646Z
LAST-MODIFIED:20220907T203523Z
UID:3951-1664386200-1664391600@www.fbca2.org
SUMMARY:Embracing Our Differences
DESCRIPTION:The Board of Music and Arts invites you to join us at Gallup Park on Wednesday\, September 28\, at 5:30p\, for a guided walking tour of the creative art exhibit “Embracing Our Differences” followed by a light picnic supper. \nEmbracing our Differences Michigan uses the transformative power of the arts to educate and inspire\, in order to create a better world. This is the first year of the exhibit\, which runs through the end of September. Gallup Park offers easy parking near the boat launch just north of the Huron River and east of Huron Parkway off Geddes Road. We will meet up at the butterfly garden next to this parking area. In order to help us properly plan for this event\, please RSVP using the purple RSVP button\, by September 21.
URL:https://www.fbca2.org/event/embracing/
LOCATION:Gallup Park\, 3000 Fuller Road\, Ann Arbor
ATTACH;FMTTYPE=image/png:https://www.fbca2.org/wp-content/uploads/2022/09/EoD-church-website-1920-×-1280-px.png
END:VEVENT
END:VCALENDAR