BEGIN:VCALENDAR
VERSION:2.0
PRODID:-//First Baptist Church of Ann Arbor - ECPv6.15.17.1//NONSGML v1.0//EN
CALSCALE:GREGORIAN
METHOD:PUBLISH
X-WR-CALNAME:First Baptist Church of Ann Arbor
X-ORIGINAL-URL:https://www.fbca2.org
X-WR-CALDESC:Events for First Baptist Church of Ann Arbor
REFRESH-INTERVAL;VALUE=DURATION:PT1H
X-Robots-Tag:noindex
X-PUBLISHED-TTL:PT1H
BEGIN:VTIMEZONE
TZID:America/New_York
BEGIN:DAYLIGHT
TZOFFSETFROM:-0500
TZOFFSETTO:-0400
TZNAME:EDT
DTSTART:20210314T070000
END:DAYLIGHT
BEGIN:STANDARD
TZOFFSETFROM:-0400
TZOFFSETTO:-0500
TZNAME:EST
DTSTART:20211107T060000
END:STANDARD
BEGIN:DAYLIGHT
TZOFFSETFROM:-0500
TZOFFSETTO:-0400
TZNAME:EDT
DTSTART:20220313T070000
END:DAYLIGHT
BEGIN:STANDARD
TZOFFSETFROM:-0400
TZOFFSETTO:-0500
TZNAME:EST
DTSTART:20221106T060000
END:STANDARD
BEGIN:DAYLIGHT
TZOFFSETFROM:-0500
TZOFFSETTO:-0400
TZNAME:EDT
DTSTART:20230312T070000
END:DAYLIGHT
BEGIN:STANDARD
TZOFFSETFROM:-0400
TZOFFSETTO:-0500
TZNAME:EST
DTSTART:20231105T060000
END:STANDARD
END:VTIMEZONE
BEGIN:VEVENT
DTSTART;TZID=America/New_York:20221127T170000
DTEND;TZID=America/New_York:20221127T190000
DTSTAMP:20260424T010330
CREATED:20221026T163310Z
LAST-MODIFIED:20231108T152623Z
UID:4056-1669568400-1669575600@www.fbca2.org
SUMMARY:Countdown to Christmas!
DESCRIPTION:Join us on Sunday\, November 27th for Countdown to Christmas\, our drive-thru Advent event. You’ll receive an Advent kit with 4 weeks of beautiful crafts to do at home\, as you countdown to Christmas.  \nEnjoy dinner to-go from Tios with a burrito (chicken or vegetarian)\, chips and salsa\, fruit\, drink\, and a cookie! You’ll be asked to indicate your burrito preference when you register for the event. \nEach year\, as we countdown to Christmas\, we invite the community to give with grateful and generous hearts. You are invited  to bring non-perishable food and snacks for school kids over the winter break (through Community Action Network) and folks who are experiencing homelessness (through Daytime Warming Center).  \nPlease sign up by clicking the purple “Register Here” button. You will be asked to indicate a 15 minute arrival time slot during the event which begins at 5:00p and ends at 7:00p. Questions? Connect with our Director of Community Life\, Xan Morgan (xan@fbca2.org) or Julia Cooper (juliamary@outlook.com).  \n \nWe are glad you joined us for Countdown to Christmas! We hope that the materials you received will enrich your waiting this season. Advent is a holy time of preparing to welcome Christ as a child. You will find an electronic version of the Advent Booklet you received and recordings of the included Advent songs.  \nAdvent Devotions Booklet \nSongs for Advent Devotions  \nhttps://www.fbca2.org/wp-content/uploads/2020/10/Come-and-Fill-Our-Hearts.mp4\nhttps://www.fbca2.org/wp-content/uploads/2020/10/Longing-for-Light.mp4\nhttps://www.fbca2.org/wp-content/uploads/2020/10/Prepare-the-Way-of-the-Lord-.mp4\nhttps://www.fbca2.org/wp-content/uploads/2020/10/O-Come-O-Come-Emmanuel-.mp4\n  \n  \n  \n 
URL:https://www.fbca2.org/event/countdown2022/
LOCATION:First Baptist Church of Ann Arbor\, 517 E Washington\, ANN ARBOR\, MI\, 48104\, United States
ATTACH;FMTTYPE=image/png:https://www.fbca2.org/wp-content/uploads/2022/10/countdown.png
END:VEVENT
END:VCALENDAR