BEGIN:VCALENDAR
VERSION:2.0
PRODID:-//First Baptist Church of Ann Arbor - ECPv6.15.17.1//NONSGML v1.0//EN
CALSCALE:GREGORIAN
METHOD:PUBLISH
X-WR-CALNAME:First Baptist Church of Ann Arbor
X-ORIGINAL-URL:https://www.fbca2.org
X-WR-CALDESC:Events for First Baptist Church of Ann Arbor
REFRESH-INTERVAL;VALUE=DURATION:PT1H
X-Robots-Tag:noindex
X-PUBLISHED-TTL:PT1H
BEGIN:VTIMEZONE
TZID:America/New_York
BEGIN:DAYLIGHT
TZOFFSETFROM:-0500
TZOFFSETTO:-0400
TZNAME:EDT
DTSTART:20210314T070000
END:DAYLIGHT
BEGIN:STANDARD
TZOFFSETFROM:-0400
TZOFFSETTO:-0500
TZNAME:EST
DTSTART:20211107T060000
END:STANDARD
BEGIN:DAYLIGHT
TZOFFSETFROM:-0500
TZOFFSETTO:-0400
TZNAME:EDT
DTSTART:20220313T070000
END:DAYLIGHT
BEGIN:STANDARD
TZOFFSETFROM:-0400
TZOFFSETTO:-0500
TZNAME:EST
DTSTART:20221106T060000
END:STANDARD
BEGIN:DAYLIGHT
TZOFFSETFROM:-0500
TZOFFSETTO:-0400
TZNAME:EDT
DTSTART:20230312T070000
END:DAYLIGHT
BEGIN:STANDARD
TZOFFSETFROM:-0400
TZOFFSETTO:-0500
TZNAME:EST
DTSTART:20231105T060000
END:STANDARD
END:VTIMEZONE
BEGIN:VEVENT
DTSTART;TZID=America/New_York:20221224T193000
DTEND;TZID=America/New_York:20221224T210000
DTSTAMP:20260423T144816
CREATED:20221126T203854Z
LAST-MODIFIED:20221201T203537Z
UID:4113-1671910200-1671915600@www.fbca2.org
SUMMARY:Christmas Eve - Lessons and Carols
DESCRIPTION:First Baptist Church of Ann Arbor presents a Festival of Lessons and Carols\, modeled on the world-famous carol service from King’s College in Cambridge\, England. Come hear the Christmas story\, join in singing beloved Christmas carols\, and enjoy beautiful music from our choir and organist. \nFree parking across the street from the church in the Liberty Square Structure\, 510 E. Washington St. \nYou can find our Current Masking Guidelines here. \n  \nWe believe that all humanity is created in God’s image and is of sacred worth. Therefore\, compelled by faith in Jesus Christ\, the sign of God’s inclusive and boundless love for the world\, we joyfully welcome and affirm individuals of any age\, race\, ethnicity\, nationality\, physical and mental ability\, gender identity\, gender expression\, sexual orientation\, marital status\, level of education\, economic circumstance\, and religious background to participate fully in all aspects of the life and ministry of our church.
URL:https://www.fbca2.org/event/christmas-eve-in-ann-arbor-lessons-and-carols/
LOCATION:First Baptist Church of Ann Arbor\, 517 E Washington\, ANN ARBOR\, MI\, 48104\, United States
ATTACH;FMTTYPE=image/png:https://www.fbca2.org/wp-content/uploads/2022/11/Copy-of-A-Festival-of-Lessons-Carols-1920-×-1280-px-1.png
END:VEVENT
END:VCALENDAR