BEGIN:VCALENDAR
VERSION:2.0
PRODID:-//First Baptist Church of Ann Arbor - ECPv6.15.17.1//NONSGML v1.0//EN
CALSCALE:GREGORIAN
METHOD:PUBLISH
X-WR-CALNAME:First Baptist Church of Ann Arbor
X-ORIGINAL-URL:https://www.fbca2.org
X-WR-CALDESC:Events for First Baptist Church of Ann Arbor
REFRESH-INTERVAL;VALUE=DURATION:PT1H
X-Robots-Tag:noindex
X-PUBLISHED-TTL:PT1H
BEGIN:VTIMEZONE
TZID:America/New_York
BEGIN:DAYLIGHT
TZOFFSETFROM:-0500
TZOFFSETTO:-0400
TZNAME:EDT
DTSTART:20250309T070000
END:DAYLIGHT
BEGIN:STANDARD
TZOFFSETFROM:-0400
TZOFFSETTO:-0500
TZNAME:EST
DTSTART:20251102T060000
END:STANDARD
BEGIN:DAYLIGHT
TZOFFSETFROM:-0500
TZOFFSETTO:-0400
TZNAME:EDT
DTSTART:20260308T070000
END:DAYLIGHT
BEGIN:STANDARD
TZOFFSETFROM:-0400
TZOFFSETTO:-0500
TZNAME:EST
DTSTART:20261101T060000
END:STANDARD
BEGIN:DAYLIGHT
TZOFFSETFROM:-0500
TZOFFSETTO:-0400
TZNAME:EDT
DTSTART:20270314T070000
END:DAYLIGHT
BEGIN:STANDARD
TZOFFSETFROM:-0400
TZOFFSETTO:-0500
TZNAME:EST
DTSTART:20271107T060000
END:STANDARD
END:VTIMEZONE
BEGIN:VEVENT
DTSTART;TZID=America/New_York:20260213T120000
DTEND;TZID=America/New_York:20260213T130000
DTSTAMP:20260419T084156
CREATED:20260107T205959Z
LAST-MODIFIED:20260107T205959Z
UID:6185-1770984000-1770987600@www.fbca2.org
SUMMARY:CANCELLED: Ad Libitum Concert: Organ
DESCRIPTION:Performance and Lecture Series 1 \n“Organ” \nShin-Ae Chun\, Organ \nThis event in the series has been cancelled
URL:https://www.fbca2.org/event/cancelled-ad-libitum-concert-organ/
LOCATION:First Baptist Church of Ann Arbor\, 517 E. Washington St.\, Ann Arbor\, MI\, 48104\, United States
ATTACH;FMTTYPE=image/png:https://www.fbca2.org/wp-content/uploads/2026/01/ad-libitum-2026.png
GEO:42.2802924;-83.7420396
X-APPLE-STRUCTURED-LOCATION;VALUE=URI;X-ADDRESS=First Baptist Church of Ann Arbor 517 E. Washington St. Ann Arbor MI 48104 United States;X-APPLE-RADIUS=500;X-TITLE=517 E. Washington St.:geo:-83.7420396,42.2802924
END:VEVENT
END:VCALENDAR