BEGIN:VCALENDAR
VERSION:2.0
PRODID:-//First Baptist Church of Ann Arbor - ECPv6.15.17.1//NONSGML v1.0//EN
CALSCALE:GREGORIAN
METHOD:PUBLISH
X-WR-CALNAME:First Baptist Church of Ann Arbor
X-ORIGINAL-URL:https://www.fbca2.org
X-WR-CALDESC:Events for First Baptist Church of Ann Arbor
REFRESH-INTERVAL;VALUE=DURATION:PT1H
X-Robots-Tag:noindex
X-PUBLISHED-TTL:PT1H
BEGIN:VTIMEZONE
TZID:America/New_York
BEGIN:DAYLIGHT
TZOFFSETFROM:-0500
TZOFFSETTO:-0400
TZNAME:EDT
DTSTART:20220313T070000
END:DAYLIGHT
BEGIN:STANDARD
TZOFFSETFROM:-0400
TZOFFSETTO:-0500
TZNAME:EST
DTSTART:20221106T060000
END:STANDARD
BEGIN:DAYLIGHT
TZOFFSETFROM:-0500
TZOFFSETTO:-0400
TZNAME:EDT
DTSTART:20230312T070000
END:DAYLIGHT
BEGIN:STANDARD
TZOFFSETFROM:-0400
TZOFFSETTO:-0500
TZNAME:EST
DTSTART:20231105T060000
END:STANDARD
BEGIN:DAYLIGHT
TZOFFSETFROM:-0500
TZOFFSETTO:-0400
TZNAME:EDT
DTSTART:20240310T070000
END:DAYLIGHT
BEGIN:STANDARD
TZOFFSETFROM:-0400
TZOFFSETTO:-0500
TZNAME:EST
DTSTART:20241103T060000
END:STANDARD
END:VTIMEZONE
BEGIN:VEVENT
DTSTART;TZID=America/New_York:20231001T160000
DTEND;TZID=America/New_York:20231001T170000
DTSTAMP:20260421T022242
CREATED:20230919T193334Z
LAST-MODIFIED:20230919T193334Z
UID:4598-1696176000-1696179600@www.fbca2.org
SUMMARY:Blessing of the Animals!
DESCRIPTION:All are invited to a short\, community-wide\, outdoor service celebrating the gift of relationship between humans and animals on Sunday\, October 1st at 4:00p at Burns Park. Bring your pets or a picture for a special blessing! We’ll have Washtenaw Dairy donuts\, Starbucks coffee\, and pup cups\, too! You’re invited to bring donations of pet food for Pet Pals Mutual Aid.
URL:https://www.fbca2.org/event/blessing-of-the-animals/
LOCATION:Burns Park\, 1300 Baldwin Ave.\, Ann Arbor\, Michigan\, 48104\, United States
ATTACH;FMTTYPE=image/png:https://www.fbca2.org/wp-content/uploads/2023/09/Sign-1-dog-face-1.png
END:VEVENT
END:VCALENDAR