BEGIN:VCALENDAR
VERSION:2.0
PRODID:-//First Baptist Church of Ann Arbor - ECPv6.15.17.1//NONSGML v1.0//EN
CALSCALE:GREGORIAN
METHOD:PUBLISH
X-WR-CALNAME:First Baptist Church of Ann Arbor
X-ORIGINAL-URL:https://www.fbca2.org
X-WR-CALDESC:Events for First Baptist Church of Ann Arbor
REFRESH-INTERVAL;VALUE=DURATION:PT1H
X-Robots-Tag:noindex
X-PUBLISHED-TTL:PT1H
BEGIN:VTIMEZONE
TZID:America/New_York
BEGIN:DAYLIGHT
TZOFFSETFROM:-0500
TZOFFSETTO:-0400
TZNAME:EDT
DTSTART:20220313T070000
END:DAYLIGHT
BEGIN:STANDARD
TZOFFSETFROM:-0400
TZOFFSETTO:-0500
TZNAME:EST
DTSTART:20221106T060000
END:STANDARD
BEGIN:DAYLIGHT
TZOFFSETFROM:-0500
TZOFFSETTO:-0400
TZNAME:EDT
DTSTART:20230312T070000
END:DAYLIGHT
BEGIN:STANDARD
TZOFFSETFROM:-0400
TZOFFSETTO:-0500
TZNAME:EST
DTSTART:20231105T060000
END:STANDARD
BEGIN:DAYLIGHT
TZOFFSETFROM:-0500
TZOFFSETTO:-0400
TZNAME:EDT
DTSTART:20240310T070000
END:DAYLIGHT
BEGIN:STANDARD
TZOFFSETFROM:-0400
TZOFFSETTO:-0500
TZNAME:EST
DTSTART:20241103T060000
END:STANDARD
END:VTIMEZONE
BEGIN:VEVENT
DTSTART;TZID=America/New_York:20230212T113000
DTEND;TZID=America/New_York:20230212T170000
DTSTAMP:20260423T061504
CREATED:20230117T034144Z
LAST-MODIFIED:20230125T170359Z
UID:4206-1676201400-1676221200@www.fbca2.org
SUMMARY:Lunch Tailgate and U-M Women's Basketball Game
DESCRIPTION:Let’s have some fun together!  \nOn Sunday\, February 12th\, Join us for a pizza lunch tailgate following worship (11:30p) in the fellowship hall. At 12:15p we’ll make our way to Crisler to watch U-M Women’s Basketball team take on the Nebraska Cornhuskers.  Reserve your ticket(s) by February 5 to get a seat in our group section. Tickets are $3. \nLet’s go Blue! \n  \n 
URL:https://www.fbca2.org/event/bball/
LOCATION:Crisler Arena\, 333 E Stadium Blvd\, Ann Arbor\, MI
ATTACH;FMTTYPE=image/png:https://www.fbca2.org/wp-content/uploads/2023/01/Basketball-game-website.png
END:VEVENT
END:VCALENDAR