BEGIN:VCALENDAR
VERSION:2.0
PRODID:-//First Baptist Church of Ann Arbor - ECPv6.15.17.1//NONSGML v1.0//EN
CALSCALE:GREGORIAN
METHOD:PUBLISH
X-WR-CALNAME:First Baptist Church of Ann Arbor
X-ORIGINAL-URL:https://www.fbca2.org
X-WR-CALDESC:Events for First Baptist Church of Ann Arbor
REFRESH-INTERVAL;VALUE=DURATION:PT1H
X-Robots-Tag:noindex
X-PUBLISHED-TTL:PT1H
BEGIN:VTIMEZONE
TZID:America/New_York
BEGIN:DAYLIGHT
TZOFFSETFROM:-0500
TZOFFSETTO:-0400
TZNAME:EDT
DTSTART:20210314T070000
END:DAYLIGHT
BEGIN:STANDARD
TZOFFSETFROM:-0400
TZOFFSETTO:-0500
TZNAME:EST
DTSTART:20211107T060000
END:STANDARD
BEGIN:DAYLIGHT
TZOFFSETFROM:-0500
TZOFFSETTO:-0400
TZNAME:EDT
DTSTART:20220313T070000
END:DAYLIGHT
BEGIN:STANDARD
TZOFFSETFROM:-0400
TZOFFSETTO:-0500
TZNAME:EST
DTSTART:20221106T060000
END:STANDARD
BEGIN:DAYLIGHT
TZOFFSETFROM:-0500
TZOFFSETTO:-0400
TZNAME:EDT
DTSTART:20230312T070000
END:DAYLIGHT
BEGIN:STANDARD
TZOFFSETFROM:-0400
TZOFFSETTO:-0500
TZNAME:EST
DTSTART:20231105T060000
END:STANDARD
END:VTIMEZONE
BEGIN:VEVENT
DTSTART;TZID=America/New_York:20221201T121500
DTEND;TZID=America/New_York:20221201T131500
DTSTAMP:20260423T220708
CREATED:20220804T173308Z
LAST-MODIFIED:20221122T204520Z
UID:3898-1669896900-1669900500@www.fbca2.org
SUMMARY:Ad Libitum Concert Series: Telling
DESCRIPTION:December 1\n \n“Telling” \nChristmas Music from the 20th Century and present \n  \nProgram \nAndrew Jenning\, violin\, and Gail Jennings\, organ\, \nAdoration by Florence Price (1887-1952) \nAve Maria by Astor Piazzolla (1921-1992 ) \nA Collage of Christmas Carols\, Arr. by Gail Jennings \nI- Sacred Carols of Adoration \nII-Wassailing Gigues for the Yuletide \n  \nShin-Ae Chun\, piano\, \nChristmas Sonatina by Carl Reinecke \nIn the Bleak Mid-Winter and Go Tell It on the Mountain by Shin-Ae Chun \nFugue on Veni\, Veni Emmanuel for Four Hands (with Gail Jennings) by Kyle Shaw \n  \nTom Strode\, organ\, \nChristmas (Variations on Adeste Fideles) by Gaston Dethier \n  \nGail Jennings has been the Organist at Bethlehem United Church of Christ in Ann Arbor for 30 years and is an active chamber musician and accompanist. A native of New York City\, she attended the Mannes College of Music studying piano with Nadia Riesenberg and the Juilliard School studying composition with Roger Sessions and Hal Overton. The Juilliard School awarded her the Elizabeth Sprague Coolidge Award in composition on her graduation. She received her Masters of Music in organ performance at the University of Akron. She has studied organ with Phillip Steinhaus\, Anthony Newman\, and Marilyn Mason. As a duo with her husband Andrew\, she has performed most of the violin/keyboard repertoire. \nViolinist Andrew Jennings was born into a family of painters but rather than follow the family “business” (and not having received the graphics gene) he turned to music\, graduating from the Juilliard School and going on to become a member of the Concord String Quartet. Winner of the Naumburg Award and touring across the globe.\, the Quartet made many recordings and commissioned and premiered the works of many formidable composers. After the quartet ended he began a teaching career already underway at Dartmouth College\, then at Oberlin College Conservatory and finally at the University of Michigan. In addition he has been a member of the artist faculty at Tanglewood\, summer home of the Boston Symphony\, for the past thirty-seven summers. \nDr. Thomas Strode\, a native of Portland (Oregon)\, did his graduate work with Dr. Marilyn Mason at the University of Michigan\, where he earned the M.Mus. and the DMA degrees in organ performance. He has been a church musician for 57 years\, and retired from his last position at St. Paul Lutheran Church\, Ann Arbor\, in June of 2019. Prior to his appointment at St. Paul\, he was Organist & Choirmaster at St. Andrew’s Episcopal Church in Ann Arbor. He was Founder/Director of the Boychoir of Ann Arbor (1987)\, having led the choir on tours to Washington\, DC\, Minnesota\, and the Czech Republic. He retired from that position in 2017. He has performed recitals in several states as well as in Spain\, Italy\, and England. \nAs a concert organist and harpsichordist represented by Concert Artist Cooperative\, Shin-Ae Chun has given concerts on festivals and concert series as soloist and with ensembles and orchestras in the U.S\, South Korea\, Germany\, Poland and Romania. She has also taught on both organ and harpsichord at various workshops. Her two organ solo CDs were released upon the request by Redeemer Lutheran Church in St. Clair Shores\, MI: The Angels Dance and On Cherubim Wings\, some music selections of which were featured on Pipedreams\, a nationally broadcasted radio station devoted to organ music. She is organist at First Baptist Church of Ann Arbor. Besides her church duties\, she runs AD LIBITUM Concert Series \n 
URL:https://www.fbca2.org/event/ad-libitum-concert-series-telling/
LOCATION:First Baptist Church of Ann Arbor\, 517 E. Washington St.\, Ann Arbor\, MI\, 48104\, United States
CATEGORIES:Concert Series
ATTACH;FMTTYPE=image/jpeg:https://www.fbca2.org/wp-content/uploads/2022/08/AD-LIBITUM-12012022-Website-page-001.jpg
ORGANIZER;CN="First Baptist Church of Ann Arbor":MAILTO:office@fbca2.org
GEO:42.2802924;-83.7420396
X-APPLE-STRUCTURED-LOCATION;VALUE=URI;X-ADDRESS=First Baptist Church of Ann Arbor 517 E. Washington St. Ann Arbor MI 48104 United States;X-APPLE-RADIUS=500;X-TITLE=517 E. Washington St.:geo:-83.7420396,42.2802924
END:VEVENT
END:VCALENDAR